BEGIN:VCALENDAR
VERSION:2.0
PRODID:-//hacksw/handcal//NONSGML v1.0//EN
CALSCALE:GREGORIAN
BEGIN:VEVENT
LOCATION:1 Tennis Place\, Forest Hills\, NY 11375
DESCRIPTION:
DTSTART:20260721T220000Z
DTEND:20260722T000000Z
SUMMARY:Bob Dylan
URL;VALUE=URI:https://www.axs.com/events/1404518/bob-dylan-tickets
DTSTAMP:20260422T101521Z
UID:69e89fb91a9dd
END:VEVENT
END:VCALENDAR
