BEGIN:VCALENDAR
VERSION:2.0
PRODID:-//hacksw/handcal//NONSGML v1.0//EN
CALSCALE:GREGORIAN
BEGIN:VEVENT
LOCATION:125 E.11th Street\, New York\, NY 10003
DESCRIPTION:TABLE RESERVATIONS: VIP@WEBSTERHALL.COM. MUST HAVE VALID PHYSICAL ID FOR ENTRY
DTSTART:20260531T031500Z
DTEND:20260531T051500Z
SUMMARY:Gimme Gimme Disco
URL;VALUE=URI:https://www.axs.com/events/1343296/gimme-gimme-disco-tickets
DTSTAMP:20260420T052818Z
UID:69e5b972c973c
END:VEVENT
END:VCALENDAR
