BEGIN:VCALENDAR
VERSION:2.0
PRODID:-//hacksw/handcal//NONSGML v1.0//EN
CALSCALE:GREGORIAN
BEGIN:VEVENT
LOCATION:311 West 34th Street\, New York City\, NY 10001
DESCRIPTION:
DTSTART:20260516T000000Z
DTEND:20260516T020000Z
SUMMARY:Ashnikko
URL;VALUE=URI:https://www.axs.com/events/1141618/ashnikko-tickets
DTSTAMP:20260420T005747Z
UID:69e57a0b35222
END:VEVENT
END:VCALENDAR
